BEGIN:VCALENDAR
VERSION:2.0
PRODID:-//Madison Regional Health System - ECPv6.15.17.1//NONSGML v1.0//EN
CALSCALE:GREGORIAN
METHOD:PUBLISH
X-ORIGINAL-URL:https://madisonregionalhealth.org
X-WR-CALDESC:Events for Madison Regional Health System
REFRESH-INTERVAL;VALUE=DURATION:PT1H
X-Robots-Tag:noindex
X-PUBLISHED-TTL:PT1H
BEGIN:VTIMEZONE
TZID:America/New_York
BEGIN:DAYLIGHT
TZOFFSETFROM:-0500
TZOFFSETTO:-0400
TZNAME:EDT
DTSTART:20210314T070000
END:DAYLIGHT
BEGIN:STANDARD
TZOFFSETFROM:-0400
TZOFFSETTO:-0500
TZNAME:EST
DTSTART:20211107T060000
END:STANDARD
BEGIN:DAYLIGHT
TZOFFSETFROM:-0500
TZOFFSETTO:-0400
TZNAME:EDT
DTSTART:20220313T070000
END:DAYLIGHT
BEGIN:STANDARD
TZOFFSETFROM:-0400
TZOFFSETTO:-0500
TZNAME:EST
DTSTART:20221106T060000
END:STANDARD
BEGIN:DAYLIGHT
TZOFFSETFROM:-0500
TZOFFSETTO:-0400
TZNAME:EDT
DTSTART:20230312T070000
END:DAYLIGHT
BEGIN:STANDARD
TZOFFSETFROM:-0400
TZOFFSETTO:-0500
TZNAME:EST
DTSTART:20231105T060000
END:STANDARD
END:VTIMEZONE
BEGIN:VEVENT
DTSTART;TZID=America/New_York:20220809T070000
DTEND;TZID=America/New_York:20220809T153000
DTSTAMP:20260421T053450
CREATED:20220708T153201Z
LAST-MODIFIED:20220805T201738Z
UID:3088-1660028400-1660059000@madisonregionalhealth.org
SUMMARY:Community Blood Bank Blood Drive at MRHS
DESCRIPTION:Donate blood! Impact local lives in our community!
URL:https://madisonregionalhealth.org/event/community-blood-bank-blood-drive-at-mrhs-4/
LOCATION:Madison Regional Health System\, 323 SW 10TH ST\, MADISON\, SD\, 57042\, United States
ATTACH;FMTTYPE=image/jpeg:https://madisonregionalhealth.org/wp-content/uploads/Madison-Regional-Electronic-Poster-Blood-Drive.jpg
END:VEVENT
BEGIN:VEVENT
DTSTART;TZID=America/New_York:20220809T160000
DTEND;TZID=America/New_York:20220809T190000
DTSTAMP:20260421T053450
CREATED:20220726T145736Z
LAST-MODIFIED:20220805T201712Z
UID:3116-1660060800-1660071600@madisonregionalhealth.org
SUMMARY:COVID-19 Vaccinations
DESCRIPTION:Madison Regional Health System will offer COVID-19 vaccinations and boosters for all individuals ages 6 months or older on August 9\, 2022\, from 4:00-7:00 pm. Please call 605-256-6551 to schedule. Note: Boosters are only offered to those who are eligible. Please bring your COVID-19 vaccination card with you to your appointment. \nClick here for more information about COVID-19 vaccinations\, booster eligibility\, and FAQs.
URL:https://madisonregionalhealth.org/event/covid-19-vaccinations-3/
LOCATION:Madison Regional Health System\, 323 SW 10TH ST\, MADISON\, SD\, 57042\, United States
ATTACH;FMTTYPE=image/png:https://madisonregionalhealth.org/wp-content/uploads/COVID-19-Vacc-6months-.png
END:VEVENT
END:VCALENDAR