BEGIN:VCALENDAR
VERSION:2.0
PRODID:-//Madison Regional Health System - ECPv6.15.17.1//NONSGML v1.0//EN
CALSCALE:GREGORIAN
METHOD:PUBLISH
X-ORIGINAL-URL:https://madisonregionalhealth.org
X-WR-CALDESC:Events for Madison Regional Health System
REFRESH-INTERVAL;VALUE=DURATION:PT1H
X-Robots-Tag:noindex
X-PUBLISHED-TTL:PT1H
BEGIN:VTIMEZONE
TZID:America/New_York
BEGIN:DAYLIGHT
TZOFFSETFROM:-0500
TZOFFSETTO:-0400
TZNAME:EDT
DTSTART:20220313T070000
END:DAYLIGHT
BEGIN:STANDARD
TZOFFSETFROM:-0400
TZOFFSETTO:-0500
TZNAME:EST
DTSTART:20221106T060000
END:STANDARD
BEGIN:DAYLIGHT
TZOFFSETFROM:-0500
TZOFFSETTO:-0400
TZNAME:EDT
DTSTART:20230312T070000
END:DAYLIGHT
BEGIN:STANDARD
TZOFFSETFROM:-0400
TZOFFSETTO:-0500
TZNAME:EST
DTSTART:20231105T060000
END:STANDARD
BEGIN:DAYLIGHT
TZOFFSETFROM:-0500
TZOFFSETTO:-0400
TZNAME:EDT
DTSTART:20240310T070000
END:DAYLIGHT
BEGIN:STANDARD
TZOFFSETFROM:-0400
TZOFFSETTO:-0500
TZNAME:EST
DTSTART:20241103T060000
END:STANDARD
END:VTIMEZONE
BEGIN:VEVENT
DTSTART;TZID=America/New_York:20230825T140000
DTEND;TZID=America/New_York:20230825T150000
DTSTAMP:20260421T053416
CREATED:20230825T130025Z
LAST-MODIFIED:20230823T212629Z
UID:4998-1692972000-1692975600@madisonregionalhealth.org
SUMMARY:FREE Medicare Information Sessions
DESCRIPTION:Space is limited! Reserve your spot! \nFree information sessions presented by Senior Health Information and Insurance Education (SHIINE). SHIINE will share information on the various Medicare and supplement plans\, including Medicare Advantage\, and will be available to answer questions. \nTo reserve your spot\, or see Medicare resources\, click here.
URL:https://madisonregionalhealth.org/event/free-medicare-information-sessions-2/
LOCATION:Madison Regional Health System\, 323 SW 10TH ST\, MADISON\, SD\, 57042\, United States
END:VEVENT
END:VCALENDAR