BEGIN:VCALENDAR
VERSION:2.0
PRODID:-//Madison Regional Health System - ECPv6.15.17.1//NONSGML v1.0//EN
CALSCALE:GREGORIAN
METHOD:PUBLISH
X-WR-CALNAME:Madison Regional Health System
X-ORIGINAL-URL:https://madisonregionalhealth.org
X-WR-CALDESC:Events for Madison Regional Health System
REFRESH-INTERVAL;VALUE=DURATION:PT1H
X-Robots-Tag:noindex
X-PUBLISHED-TTL:PT1H
BEGIN:VTIMEZONE
TZID:America/New_York
BEGIN:DAYLIGHT
TZOFFSETFROM:-0500
TZOFFSETTO:-0400
TZNAME:EDT
DTSTART:20220313T070000
END:DAYLIGHT
BEGIN:STANDARD
TZOFFSETFROM:-0400
TZOFFSETTO:-0500
TZNAME:EST
DTSTART:20221106T060000
END:STANDARD
BEGIN:DAYLIGHT
TZOFFSETFROM:-0500
TZOFFSETTO:-0400
TZNAME:EDT
DTSTART:20230312T070000
END:DAYLIGHT
BEGIN:STANDARD
TZOFFSETFROM:-0400
TZOFFSETTO:-0500
TZNAME:EST
DTSTART:20231105T060000
END:STANDARD
BEGIN:DAYLIGHT
TZOFFSETFROM:-0500
TZOFFSETTO:-0400
TZNAME:EDT
DTSTART:20240310T070000
END:DAYLIGHT
BEGIN:STANDARD
TZOFFSETFROM:-0400
TZOFFSETTO:-0500
TZNAME:EST
DTSTART:20241103T060000
END:STANDARD
END:VTIMEZONE
BEGIN:VEVENT
DTSTART;TZID=America/New_York:20230906T090000
DTEND;TZID=America/New_York:20230906T110000
DTSTAMP:20260421T053410
CREATED:20230313T203530Z
LAST-MODIFIED:20230313T203530Z
UID:4263-1693990800-1693998000@madisonregionalhealth.org
SUMMARY:Free Physical Screenings at The Community Center
DESCRIPTION:  \nIn partnership with the Madison Community Center\, Madison Regional Health System will offer free physical screenings to Community Center members.  These non-invasive screenings will be offered in the small conference room to the right side of the Community Center’s main entrance on the first Wednesday of each month from 9:00 am-11:00 am. Screenings take 20-30 minutes to complete and will be offered on a walk-in basis. \nScreenings will include a musculoskeletal assessment and a check of your blood pressure\, heart rate\, and oxygen levels. Musculoskeletal assessments will address any injuries\, limitations\, or concerns. After the screening\, recommendations will be made to help individuals reach their physical wellness goals. Recommendations may include exercises and stretches\, rehabilitation services\, or follow-up with a primary care provider. \nFor more information please call 605-256-8915. \n 
URL:https://madisonregionalhealth.org/event/free-physical-screenings-at-the-community-center-5/
LOCATION:The Madison Community Center\, 500 11st St. NE\, Madison\, SD\, 57042\, United States
END:VEVENT
BEGIN:VEVENT
DTSTART;TZID=America/New_York:20230911T173000
DTEND;TZID=America/New_York:20230911T193000
DTSTAMP:20260421T053410
CREATED:20230208T153014Z
LAST-MODIFIED:20230208T153014Z
UID:4057-1694453400-1694460600@madisonregionalhealth.org
SUMMARY:Hello\, Baby! Childbirth Education (Session 1 of 3)
DESCRIPTION:Classes begin at 5:30 pm in Conference Room #1. \nRegistration is required. \nTo register\, please call 605-256-6551 or register online using the website link below. \n2 hours each\nDuring this three-session\, informative\, and interactive class\, you will learn more about:\nLabor and Delivery\nBreathing Techniques\nRelaxation Techniques\nComfort Measures during Labor\nPostpartum Care
URL:https://madisonregionalhealth.org/event/hello-baby-childbirth-education-session-1-of-3-3/
LOCATION:Madison Regional Health System\, 323 SW 10TH ST\, MADISON\, SD\, 57042\, United States
ATTACH;FMTTYPE=image/png:https://madisonregionalhealth.org/wp-content/uploads/Hello-Baby-Education-Series-Website-Image-02062023.png
END:VEVENT
BEGIN:VEVENT
DTSTART;TZID=America/New_York:20230915T140000
DTEND;TZID=America/New_York:20230915T150000
DTSTAMP:20260421T053410
CREATED:20230825T130012Z
LAST-MODIFIED:20230823T212656Z
UID:4983-1694786400-1694790000@madisonregionalhealth.org
SUMMARY:FREE Medicare Information Sessions
DESCRIPTION:Space is limited! Reserve your spot! \nFree information sessions presented by Senior Health Information and Insurance Education (SHIINE). SHIINE will share information on the various Medicare and supplement plans\, including Medicare Advantage\, and will be available to answer questions. \nTo reserve your spot\, or see Medicare resources\, click here.
URL:https://madisonregionalhealth.org/event/free-medicare-information-sessions/
LOCATION:Madison Regional Health System\, 323 SW 10TH ST\, MADISON\, SD\, 57042\, United States
END:VEVENT
BEGIN:VEVENT
DTSTART;TZID=America/New_York:20230918T173000
DTEND;TZID=America/New_York:20230918T193000
DTSTAMP:20260421T053410
CREATED:20230208T153053Z
LAST-MODIFIED:20230208T153053Z
UID:4058-1695058200-1695065400@madisonregionalhealth.org
SUMMARY:Hello\, Baby! Childbirth Education (Session 2 of 3)
DESCRIPTION:Classes begin at 5:30 pm in Conference Room #1. \nRegistration is required. \nTo register\, please call 605-256-6551 or register online using the website link below. \n2 hours each\nDuring this three-session\, informative\, and interactive class\, you will learn more about:\nLabor and Delivery\nBreathing Techniques\nRelaxation Techniques\nComfort Measures during Labor\nPostpartum Care
URL:https://madisonregionalhealth.org/event/hello-baby-childbirth-education-session-2-of-3/
LOCATION:Madison Regional Health System\, 323 SW 10TH ST\, MADISON\, SD\, 57042\, United States
ATTACH;FMTTYPE=image/png:https://madisonregionalhealth.org/wp-content/uploads/Hello-Baby-Education-Series-Website-Image-02062023.png
END:VEVENT
BEGIN:VEVENT
DTSTART;TZID=America/New_York:20230925T173000
DTEND;TZID=America/New_York:20230925T193000
DTSTAMP:20260421T053410
CREATED:20230208T153111Z
LAST-MODIFIED:20230208T153111Z
UID:4059-1695663000-1695670200@madisonregionalhealth.org
SUMMARY:Hello\, Baby! Childbirth Education (Session 3 of 3)
DESCRIPTION:Classes begin at 5:30 pm in Conference Room #1. \nRegistration is required. \nTo register\, please call 605-256-6551 or register online using the website link below. \n2 hours each\nDuring this three-session\, informative\, and interactive class\, you will learn more about:\nLabor and Delivery\nBreathing Techniques\nRelaxation Techniques\nComfort Measures during Labor\nPostpartum Care
URL:https://madisonregionalhealth.org/event/hello-baby-childbirth-education-session-3-of-3-2/
LOCATION:Madison Regional Health System\, 323 SW 10TH ST\, MADISON\, SD\, 57042\, United States
ATTACH;FMTTYPE=image/png:https://madisonregionalhealth.org/wp-content/uploads/Hello-Baby-Education-Series-Website-Image-02062023.png
END:VEVENT
END:VCALENDAR