BEGIN:VCALENDAR
VERSION:2.0
PRODID:-//Madison Regional Health System - ECPv6.15.17.1//NONSGML v1.0//EN
CALSCALE:GREGORIAN
METHOD:PUBLISH
X-ORIGINAL-URL:https://madisonregionalhealth.org
X-WR-CALDESC:Events for Madison Regional Health System
REFRESH-INTERVAL;VALUE=DURATION:PT1H
X-Robots-Tag:noindex
X-PUBLISHED-TTL:PT1H
BEGIN:VTIMEZONE
TZID:America/New_York
BEGIN:DAYLIGHT
TZOFFSETFROM:-0500
TZOFFSETTO:-0400
TZNAME:EDT
DTSTART:20230312T070000
END:DAYLIGHT
BEGIN:STANDARD
TZOFFSETFROM:-0400
TZOFFSETTO:-0500
TZNAME:EST
DTSTART:20231105T060000
END:STANDARD
BEGIN:DAYLIGHT
TZOFFSETFROM:-0500
TZOFFSETTO:-0400
TZNAME:EDT
DTSTART:20240310T070000
END:DAYLIGHT
BEGIN:STANDARD
TZOFFSETFROM:-0400
TZOFFSETTO:-0500
TZNAME:EST
DTSTART:20241103T060000
END:STANDARD
BEGIN:DAYLIGHT
TZOFFSETFROM:-0500
TZOFFSETTO:-0400
TZNAME:EDT
DTSTART:20250309T070000
END:DAYLIGHT
BEGIN:STANDARD
TZOFFSETFROM:-0400
TZOFFSETTO:-0500
TZNAME:EST
DTSTART:20251102T060000
END:STANDARD
END:VTIMEZONE
BEGIN:VEVENT
DTSTART;TZID=America/New_York:20240205T173000
DTEND;TZID=America/New_York:20240205T193000
DTSTAMP:20260421T124214
CREATED:20230208T153505Z
LAST-MODIFIED:20230208T153505Z
UID:4073-1707154200-1707161400@madisonregionalhealth.org
SUMMARY:Hello\, Baby! Baby Care Education (Session 1 of 2)
DESCRIPTION:Classes begin at 5:30 pm in Conference Room #1. \nRegistration is required. \nTo register\, please call 605-256-6551 or register online using the website link below. \n2 hours each\nThis two-session class addresses basic knowledge about your baby’s needs. Our small group size allows for demonstration\, practice\, and discussion that includes:\nSights and Sounds of a Newborn\nBasic Daily Care (including bathing\, diapering\, crying and calming\, and dental care)\nPostpartum & Parenting\nResponding to Emergencies (including Infant CPR)\nChildhood Immunizations\nSpeech and Language Development
URL:https://madisonregionalhealth.org/event/hello-baby-baby-care-education-session-1-of-2-3/
LOCATION:Madison Regional Health System\, 323 SW 10TH ST\, MADISON\, SD\, 57042\, United States
ATTACH;FMTTYPE=image/png:https://madisonregionalhealth.org/wp-content/uploads/Hello-Baby-Education-Series-Website-Image-02062023.png
END:VEVENT
BEGIN:VEVENT
DTSTART;TZID=America/New_York:20240207T090000
DTEND;TZID=America/New_York:20240207T110000
DTSTAMP:20260421T124214
CREATED:20230925T142828Z
LAST-MODIFIED:20230925T142828Z
UID:5352-1707296400-1707303600@madisonregionalhealth.org
SUMMARY:Free Physical Screenings at The Community Center
DESCRIPTION:  \nIn partnership with the Madison Community Center\, Madison Regional Health System will offer free physical screenings to Community Center members.  These non-invasive screenings will be offered in the small conference room to the right side of the Community Center’s main entrance on the first Wednesday of each month from 9:00 am-11:00 am. Screenings take 20-30 minutes to complete and will be offered on a walk-in basis. \nScreenings will include a musculoskeletal assessment and a check of your blood pressure\, heart rate\, and oxygen levels. Musculoskeletal assessments will address any injuries\, limitations\, or concerns. After the screening\, recommendations will be made to help individuals reach their physical wellness goals. Recommendations may include exercises and stretches\, rehabilitation services\, or follow-up with a primary care provider. \nFor more information please call 605-256-8915. \n 
URL:https://madisonregionalhealth.org/event/free-physical-screenings-at-the-community-center-10/
LOCATION:The Madison Community Center\, 500 11st St. NE\, Madison\, SD\, 57042\, United States
END:VEVENT
BEGIN:VEVENT
DTSTART;TZID=America/New_York:20240212T073000
DTEND;TZID=America/New_York:20240212T150000
DTSTAMP:20260421T124214
CREATED:20240109T214124Z
LAST-MODIFIED:20240109T214124Z
UID:5650-1707723000-1707750000@madisonregionalhealth.org
SUMMARY:Community Blood Bank Blood Drive at MRHS
DESCRIPTION:Donate blood! Provide hope for people in our community! \n7:30 am – 10:30 am & 12:00 pm – 3:00 pm \nClick on the link to select your donation time.
URL:https://madisonregionalhealth.org/event/community-blood-bank-blood-drive-at-mrhs-9/
LOCATION:Madison Regional Health System\, 323 SW 10TH ST\, MADISON\, SD\, 57042\, United States
ATTACH;FMTTYPE=image/jpeg:https://madisonregionalhealth.org/wp-content/uploads/Madison-Regional-1.jpg
END:VEVENT
BEGIN:VEVENT
DTSTART;TZID=America/New_York:20240212T173000
DTEND;TZID=America/New_York:20240212T193000
DTSTAMP:20260421T124214
CREATED:20230208T153353Z
LAST-MODIFIED:20230208T153820Z
UID:4074-1707759000-1707766200@madisonregionalhealth.org
SUMMARY:Hello\, Baby! Baby Care Education (Session 2 of 2)
DESCRIPTION:Classes begin at 5:30 pm in Conference Room #1. \nRegistration is required. \nTo register\, please call 605-256-6551 or register online using the website link below. \n2 hours each\nThis two-session class addresses basic knowledge about your baby’s needs. Our small group size allows for demonstration\, practice\, and discussion that includes:\nSights and Sounds of a Newborn\nBasic Daily Care (including bathing\, diapering\, crying and calming\, and dental care)\nPostpartum & Parenting\nResponding to Emergencies (including Infant CPR)\nChildhood Immunizations\nSpeech and Language Development
URL:https://madisonregionalhealth.org/event/hello-baby-baby-care-education-session-2-of-2-3/
LOCATION:Madison Regional Health System\, 323 SW 10TH ST\, MADISON\, SD\, 57042\, United States
ATTACH;FMTTYPE=image/png:https://madisonregionalhealth.org/wp-content/uploads/Hello-Baby-Education-Series-Website-Image-02062023.png
END:VEVENT
BEGIN:VEVENT
DTSTART;TZID=America/New_York:20240213T073000
DTEND;TZID=America/New_York:20240213T073000
DTSTAMP:20260421T124214
CREATED:20240109T214253Z
LAST-MODIFIED:20240109T214253Z
UID:5653-1707809400-1707809400@madisonregionalhealth.org
SUMMARY:Community Blood Bank Blood Drive at MRHS
DESCRIPTION:Donate blood! Provide hope for people in our community! \n7:30 am – 10:30 am & 12:00 pm – 3:00 pm \nClick on the link to select your donation time.
URL:https://madisonregionalhealth.org/event/community-blood-bank-blood-drive-at-mrhs-10/
LOCATION:Madison Regional Health System\, 323 SW 10TH ST\, MADISON\, SD\, 57042\, United States
ATTACH;FMTTYPE=image/jpeg:https://madisonregionalhealth.org/wp-content/uploads/Madison-Regional-1.jpg
END:VEVENT
END:VCALENDAR