BEGIN:VCALENDAR
VERSION:2.0
PRODID:-//Madison Regional Health System - ECPv6.15.17.1//NONSGML v1.0//EN
CALSCALE:GREGORIAN
METHOD:PUBLISH
X-WR-CALNAME:Madison Regional Health System
X-ORIGINAL-URL:https://madisonregionalhealth.org
X-WR-CALDESC:Events for Madison Regional Health System
REFRESH-INTERVAL;VALUE=DURATION:PT1H
X-Robots-Tag:noindex
X-PUBLISHED-TTL:PT1H
BEGIN:VTIMEZONE
TZID:America/New_York
BEGIN:DAYLIGHT
TZOFFSETFROM:-0500
TZOFFSETTO:-0400
TZNAME:EDT
DTSTART:20230312T070000
END:DAYLIGHT
BEGIN:STANDARD
TZOFFSETFROM:-0400
TZOFFSETTO:-0500
TZNAME:EST
DTSTART:20231105T060000
END:STANDARD
BEGIN:DAYLIGHT
TZOFFSETFROM:-0500
TZOFFSETTO:-0400
TZNAME:EDT
DTSTART:20240310T070000
END:DAYLIGHT
BEGIN:STANDARD
TZOFFSETFROM:-0400
TZOFFSETTO:-0500
TZNAME:EST
DTSTART:20241103T060000
END:STANDARD
BEGIN:DAYLIGHT
TZOFFSETFROM:-0500
TZOFFSETTO:-0400
TZNAME:EDT
DTSTART:20250309T070000
END:DAYLIGHT
BEGIN:STANDARD
TZOFFSETFROM:-0400
TZOFFSETTO:-0500
TZNAME:EST
DTSTART:20251102T060000
END:STANDARD
END:VTIMEZONE
BEGIN:VEVENT
DTSTART;TZID=America/New_York:20240805T073000
DTEND;TZID=America/New_York:20240805T073000
DTSTAMP:20260418T163311
CREATED:20240709T153806Z
LAST-MODIFIED:20240709T153806Z
UID:5971-1722843000-1722843000@madisonregionalhealth.org
SUMMARY:Community Blood Bank Blood Drive at MRHS
DESCRIPTION:Donate blood! Provide hope for people in our community! \nMonday\, August 6th & Tuesday\, August 7th \n7:30 a.m. – 10:30 a.m. & 12:00 p.m. – 3:00 p.m. \nClick on the link to select your donation time.
URL:https://madisonregionalhealth.org/event/community-blood-bank-blood-drive-at-mrhs-11/
LOCATION:Madison Regional Health System\, 323 SW 10TH ST\, MADISON\, SD\, 57042\, United States
ATTACH;FMTTYPE=image/jpeg:https://madisonregionalhealth.org/wp-content/uploads/Blood-Drive-2024-Info-Sheet.jpg
END:VEVENT
BEGIN:VEVENT
DTSTART;TZID=America/New_York:20240806T073000
DTEND;TZID=America/New_York:20240806T073000
DTSTAMP:20260418T163311
CREATED:20240709T154101Z
LAST-MODIFIED:20240709T154101Z
UID:5974-1722929400-1722929400@madisonregionalhealth.org
SUMMARY:Community Blood Bank Blood Drive at MRHS
DESCRIPTION:Donate blood! Provide hope for people in our community! \nMonday\, August 6th & Tuesday\, August 7th \n7:30 a.m. – 10:30 a.m. & 12:00 p.m. – 3:00 p.m. \nClick on the link to select your donation time.
URL:https://madisonregionalhealth.org/event/community-blood-bank-blood-drive-at-mrhs-12/
LOCATION:Madison Regional Health System\, 323 SW 10TH ST\, MADISON\, SD\, 57042\, United States
ATTACH;FMTTYPE=image/jpeg:https://madisonregionalhealth.org/wp-content/uploads/Blood-Drive-2024-Info-Sheet.jpg
END:VEVENT
END:VCALENDAR